BEGIN:VCALENDAR
VERSION:2.0
PRODID:-//83.229.19.72//NONSGML kigkonsult.se iCalcreator 2.14//
METHOD:PUBLISH
X-WR-CALNAME:T%C3%A9l%C3%A9charger+le+calendrier+complet
X-WR-CALDESC:T%C3%A9l%C3%A9charger+le+calendrier+complet
X-WR-TIMEZONE:Europe/Luxembourg
BEGIN:VEVENT
UID:20260424T232749CEST-93905Fvkv6@83.229.19.72
DTSTAMP:20260424T212749Z
DESCRIPTION:
DTSTART;VALUE=DATE:20150501
DTEND;VALUE=DATE:20150502
SUMMARY:Karate_ fête du travail
END:VEVENT
BEGIN:VEVENT
UID:20260424T232749CEST-9401AhTWpR@83.229.19.72
DTSTAMP:20260424T212749Z
DESCRIPTION:
DTSTART;VALUE=DATE:20151017
DTEND;VALUE=DATE:20151018
SUMMARY:Karate_ coupe int. de Kayl
END:VEVENT
BEGIN:VEVENT
UID:20260424T232749CEST-9412D4U4Vk@83.229.19.72
DTSTAMP:20260424T212749Z
DESCRIPTION:
DTSTART;VALUE=DATE:20151018
DTEND;VALUE=DATE:20151019
SUMMARY:Karate_ Coupe int. de Kayl + 14
END:VEVENT
BEGIN:VEVENT
UID:20260424T232749CEST-9423BesO1v@83.229.19.72
DTSTAMP:20260424T212749Z
DESCRIPTION:
DTSTART;VALUE=DATE:20151101
DTEND;VALUE=DATE:20151109
SUMMARY:Karate_ Vacances scolaires de toussaint
END:VEVENT
BEGIN:VEVENT
UID:20260424T232749CEST-9433rj6vx7@83.229.19.72
DTSTAMP:20260424T212749Z
DESCRIPTION:
DTSTART;VALUE=DATE:20151129
DTEND;VALUE=DATE:20151130
SUMMARY:Karate_ Championnat national Kumité
END:VEVENT
BEGIN:VEVENT
UID:20260424T232749CEST-9443E61oJo@83.229.19.72
DTSTAMP:20260424T212749Z
DESCRIPTION:
DTSTART;VALUE=DATE:20151218
DTEND;VALUE=DATE:20151221
SUMMARY:Karate_ Stage à Paris
END:VEVENT
BEGIN:VEVENT
UID:20260424T232749CEST-9454MZ6BoT@83.229.19.72
DTSTAMP:20260424T212749Z
DESCRIPTION:
DTSTART;VALUE=DATE:20151221
DTEND;VALUE=DATE:20160104
SUMMARY:Karate_ Vacances  de noël
END:VEVENT
BEGIN:VEVENT
UID:20260424T232749CEST-9464gfTl5I@83.229.19.72
DTSTAMP:20260424T212749Z
DESCRIPTION:
DTSTART;VALUE=DATE:20160104
DTEND;VALUE=DATE:20160105
SUMMARY:Karate_ Reprise des cours
END:VEVENT
BEGIN:VEVENT
UID:20260424T232749CEST-9475cma4o4@83.229.19.72
DTSTAMP:20260424T212749Z
DESCRIPTION:
DTSTART;VALUE=DATE:20160311
DTEND;VALUE=DATE:20160313
SUMMARY:Karate_ Stage inter. Sensei JP FISCHER  et JM BLANCHARD au Luxembou
 rg
END:VEVENT
BEGIN:VEVENT
UID:20260424T232749CEST-9485iRphsE@83.229.19.72
DTSTAMP:20260424T212749Z
DESCRIPTION:
DTSTART;VALUE=DATE:20160313
DTEND;VALUE=DATE:20160314
SUMMARY:Karate_ Championnat National KATA
END:VEVENT
BEGIN:VEVENT
UID:20260424T232749CEST-9496IAitgo@83.229.19.72
DTSTAMP:20260424T212749Z
DESCRIPTION:
DTSTART;VALUE=DATE:20160326
DTEND;VALUE=DATE:20160411
SUMMARY:Karate_ Vacances de pâques
END:VEVENT
BEGIN:VEVENT
UID:20260424T232749CEST-95066Ij7Nd@83.229.19.72
DTSTAMP:20260424T212749Z
DESCRIPTION:
DTSTART;VALUE=DATE:20160507
DTEND;VALUE=DATE:20160509
SUMMARY:Karate_ Cup MESS
END:VEVENT
BEGIN:VEVENT
UID:20260424T232749CEST-9516V8SUxW@83.229.19.72
DTSTAMP:20260424T212749Z
DESCRIPTION:
DTSTART;VALUE=DATE:20160514
DTEND;VALUE=DATE:20160521
SUMMARY:Karate_ Vacances de pentecôte
END:VEVENT
BEGIN:VEVENT
UID:20260424T232749CEST-9527AzLEiG@83.229.19.72
DTSTAMP:20260424T212749Z
DESCRIPTION:
DTSTART;VALUE=DATE:20160521
DTEND;VALUE=DATE:20160522
SUMMARY:Karate_ Stage Kumite pour jeunes Avec Sensei Fischer
END:VEVENT
BEGIN:VEVENT
UID:20260424T232749CEST-9538W6RMBM@83.229.19.72
DTSTAMP:20260424T212749Z
DESCRIPTION:
DTSTART;VALUE=DATE:20160617
DTEND;VALUE=DATE:20160619
SUMMARY:Karate_ Stage Sensei JP Fischer au Luxembourg
END:VEVENT
BEGIN:VEVENT
UID:20260424T232749CEST-9548AvUMpT@83.229.19.72
DTSTAMP:20260424T212749Z
DESCRIPTION:
DTSTART;VALUE=DATE:20161118
DTEND;VALUE=DATE:20161120
SUMMARY:Karate_ Stage Sensei JP Fischer au Luxembourg
END:VEVENT
BEGIN:VEVENT
UID:20260424T232749CEST-9559dlh8VG@83.229.19.72
DTSTAMP:20260424T212749Z
DESCRIPTION:
DTSTART;VALUE=DATE:20161127
DTEND;VALUE=DATE:20161128
SUMMARY:Karate_ Championnat national kumité
END:VEVENT
BEGIN:VEVENT
UID:20260424T232749CEST-9569gGnohD@83.229.19.72
DTSTAMP:20260424T212749Z
DESCRIPTION:
DTSTART;VALUE=DATE:20170312
DTEND;VALUE=DATE:20170313
SUMMARY:Karate_ Championnat national de Kata
END:VEVENT
BEGIN:VEVENT
UID:20260424T232749CEST-9579Npcdlw@83.229.19.72
DTSTAMP:20260424T212749Z
DESCRIPTION:
DTSTART;VALUE=DATE:20170408
DTEND;VALUE=DATE:20170409
SUMMARY:Karate_ Open de Luxembourg
END:VEVENT
BEGIN:VEVENT
UID:20260424T232749CEST-9590cKaXc1@83.229.19.72
DTSTAMP:20260424T212749Z
DESCRIPTION:
DTSTART;VALUE=DATE:20170520
DTEND;VALUE=DATE:20170522
SUMMARY:Karate_ Cup Mess
END:VEVENT
BEGIN:VEVENT
UID:20260424T232749CEST-9600p3O7ku@83.229.19.72
DTSTAMP:20260424T212749Z
DESCRIPTION:
DTSTART;VALUE=DATE:20170528
DTEND;VALUE=DATE:20170529
SUMMARY:Karate_ Championnat national kumité par équipe
END:VEVENT
BEGIN:VEVENT
UID:20260424T232749CEST-9611c3sKPM@83.229.19.72
DTSTAMP:20260424T212749Z
DESCRIPTION:
DTSTART;VALUE=DATE:20170616
DTEND;VALUE=DATE:20170618
SUMMARY:Karate_ Stage Sensei FISCHER
END:VEVENT
BEGIN:VEVENT
UID:20260424T232749CEST-9621P1j0VS@83.229.19.72
DTSTAMP:20260424T212749Z
DESCRIPTION:
DTSTART;VALUE=DATE:20170702
DTEND;VALUE=DATE:20170703
SUMMARY:Karate_ Coupe Prince Louis
END:VEVENT
BEGIN:VEVENT
UID:20260424T232749CEST-9632z6fj95@83.229.19.72
DTSTAMP:20260424T212749Z
DESCRIPTION:
DTSTART;VALUE=DATE:20171028
DTEND;VALUE=DATE:20171106
SUMMARY:Karate_ Vacances de toussaint
END:VEVENT
BEGIN:VEVENT
UID:20260424T232749CEST-96424hk26C@83.229.19.72
DTSTAMP:20260424T212749Z
DESCRIPTION:
DTSTART;VALUE=DATE:20171126
DTEND;VALUE=DATE:20171127
SUMMARY:Karate_ Championnat national kumité
END:VEVENT
BEGIN:VEVENT
UID:20260424T232749CEST-96530KustA@83.229.19.72
DTSTAMP:20260424T212749Z
DESCRIPTION:
DTSTART;VALUE=DATE:20171201
DTEND;VALUE=DATE:20171203
SUMMARY:Karate_ Stage Sensei FISCHER
END:VEVENT
BEGIN:VEVENT
UID:20260424T232749CEST-9663mLPt1i@83.229.19.72
DTSTAMP:20260424T212749Z
DESCRIPTION:
DTSTART;VALUE=DATE:20171217
DTEND;VALUE=DATE:20171218
SUMMARY:Karate_ Coupe PRINCE LOUIS
END:VEVENT
BEGIN:VEVENT
UID:20260424T232749CEST-9673lDKNJ3@83.229.19.72
DTSTAMP:20260424T212749Z
DESCRIPTION:
DTSTART;VALUE=DATE:20180121
DTEND;VALUE=DATE:20180122
SUMMARY:Karate_ stage Kumite enfants
END:VEVENT
BEGIN:VEVENT
UID:20260424T232749CEST-9684gj1jl2@83.229.19.72
DTSTAMP:20260424T212749Z
DESCRIPTION:
DTSTART;VALUE=DATE:20180128
DTEND;VALUE=DATE:20180129
SUMMARY:Karate_ Daiwelchersturnéier 2018
END:VEVENT
BEGIN:VEVENT
UID:20260424T232749CEST-9695UaV3JD@83.229.19.72
DTSTAMP:20260424T212749Z
DESCRIPTION:
DTSTART;VALUE=DATE:20180303
DTEND;VALUE=DATE:20180305
SUMMARY:Karate_ Championnat National KATA
END:VEVENT
BEGIN:VEVENT
UID:20260424T232749CEST-9705FD8wg6@83.229.19.72
DTSTAMP:20260424T212749Z
DESCRIPTION:
DTSTART;VALUE=DATE:20180309
DTEND;VALUE=DATE:20180311
SUMMARY:Karate_ Stage Luxembourg
END:VEVENT
BEGIN:VEVENT
UID:20260424T232749CEST-9715WjHWCv@83.229.19.72
DTSTAMP:20260424T212749Z
DESCRIPTION:
DTSTART;VALUE=DATE:20180317
DTEND;VALUE=DATE:20180318
SUMMARY:Karate_ STAGE JKA LIBIN
END:VEVENT
BEGIN:VEVENT
UID:20260424T232749CEST-9725wsa4OK@83.229.19.72
DTSTAMP:20260424T212749Z
DESCRIPTION:
DTSTART;VALUE=DATE:20180506
DTEND;VALUE=DATE:20180507
SUMMARY:Karate_ Tournoi JKA Neufchâteau
END:VEVENT
BEGIN:VEVENT
UID:20260424T232749CEST-97368DuBjc@83.229.19.72
DTSTAMP:20260424T212749Z
DESCRIPTION:
DTSTART;VALUE=DATE:20180513
DTEND;VALUE=DATE:20180514
SUMMARY:Karate_ Championnat national Kumité par équipe
END:VEVENT
BEGIN:VEVENT
UID:20260424T232749CEST-9746VML4zP@83.229.19.72
DTSTAMP:20260424T212749Z
DESCRIPTION:
DTSTART;VALUE=DATE:20180601
DTEND;VALUE=DATE:20180603
SUMMARY:Karate_ STAGE SENSEI FISCHER
END:VEVENT
BEGIN:VEVENT
UID:20260424T232749CEST-975613PtL2@83.229.19.72
DTSTAMP:20260424T212749Z
DESCRIPTION:
DTSTART;VALUE=DATE:20180617
DTEND;VALUE=DATE:20180618
SUMMARY:Karate_ Coupe PRINCE LOUIS
END:VEVENT
BEGIN:VEVENT
UID:20260424T232749CEST-9767xgm8ON@83.229.19.72
DTSTAMP:20260424T212749Z
DESCRIPTION:
DTSTART;VALUE=DATE:20181116
DTEND;VALUE=DATE:20181118
SUMMARY:Karate_ stage JP FiSCHER
END:VEVENT
BEGIN:VEVENT
UID:20260424T232749CEST-9777tKi12s@83.229.19.72
DTSTAMP:20260424T212749Z
DESCRIPTION:
DTSTART;VALUE=DATE:20181125
DTEND;VALUE=DATE:20181126
SUMMARY:Karate_ Championnat national Kumite 2018
END:VEVENT
BEGIN:VEVENT
UID:20260424T232749CEST-9787h4s0bA@83.229.19.72
DTSTAMP:20260424T212749Z
DESCRIPTION:
DTSTART;VALUE=DATE:20190315
DTEND;VALUE=DATE:20190317
SUMMARY:Karate_ STAGE SENSEI AKITA ET SENSEI FISCHER
END:VEVENT
BEGIN:VEVENT
UID:20260424T232749CEST-97980dto7h@83.229.19.72
DTSTAMP:20260424T212749Z
DESCRIPTION:
DTSTART;VALUE=DATE:20190317
DTEND;VALUE=DATE:20190318
SUMMARY:Karate_ CHAMPIONNAT NATIONAL KATA
END:VEVENT
BEGIN:VEVENT
UID:20260424T232749CEST-980880V14H@83.229.19.72
DTSTAMP:20260424T212749Z
DESCRIPTION:
DTSTART;VALUE=DATE:20200306
DTEND;VALUE=DATE:20200308
SUMMARY:Karate_ Stage international Shotokan
END:VEVENT
BEGIN:VEVENT
UID:20260424T232749CEST-9819HsDoaK@83.229.19.72
DTSTAMP:20260424T212749Z
DESCRIPTION:
DTSTART;VALUE=DATE:20200501
DTEND;VALUE=DATE:20200502
SUMMARY:Karate_ 1 mai
END:VEVENT
BEGIN:VEVENT
UID:20260424T232749CEST-9829guKrCv@83.229.19.72
DTSTAMP:20260424T212749Z
DESCRIPTION:
DTSTART;VALUE=DATE:20200509
DTEND;VALUE=DATE:20200510
SUMMARY:Karate_ 9 mai
END:VEVENT
BEGIN:VEVENT
UID:20260424T232749CEST-9839RZA38u@83.229.19.72
DTSTAMP:20260424T212749Z
DESCRIPTION:
DTSTART;VALUE=DATE:20200619
DTEND;VALUE=DATE:20200621
SUMMARY:Karate_ Stage  Karate Luxembourg
END:VEVENT
BEGIN:VEVENT
UID:20260424T232749CEST-98505nEese@83.229.19.72
DTSTAMP:20260424T212749Z
DESCRIPTION:
DTSTART;VALUE=DATE:20200623
DTEND;VALUE=DATE:20200624
SUMMARY:Karate_ fête nationale
END:VEVENT
BEGIN:VEVENT
UID:20260424T232749CEST-9860moBMeN@83.229.19.72
DTSTAMP:20260424T212749Z
DESCRIPTION:
DTSTART;VALUE=DATE:20200626
DTEND;VALUE=DATE:20200916
SUMMARY:Karate_ Vacances d'été
END:VEVENT
BEGIN:VEVENT
UID:20260424T232749CEST-9870iNOM5I@83.229.19.72
DTSTAMP:20260424T212749Z
DESCRIPTION:
DTSTART;VALUE=DATE:20201031
DTEND;VALUE=DATE:20201109
SUMMARY:Karate_ Vacances de Toussaint
END:VEVENT
BEGIN:VEVENT
UID:20260424T232749CEST-9881VRcNPe@83.229.19.72
DTSTAMP:20260424T212749Z
DESCRIPTION:
DTSTART;VALUE=DATE:20201218
DTEND;VALUE=DATE:20210104
SUMMARY:Karate_ vacances de Noël
END:VEVENT
BEGIN:VEVENT
UID:20260424T232749CEST-9892unk4Tg@83.229.19.72
DTSTAMP:20260424T212749Z
DESCRIPTION:
DTSTART;VALUE=DATE:20210130
DTEND;VALUE=DATE:20210131
SUMMARY:Karate_ STAGE KIDS
END:VEVENT
BEGIN:VEVENT
UID:20260424T232749CEST-9902CV9VHa@83.229.19.72
DTSTAMP:20260424T212749Z
DESCRIPTION:
DTSTART;VALUE=DATE:20210213
DTEND;VALUE=DATE:20210222
SUMMARY:Karate_ Vacances de Carneval
END:VEVENT
BEGIN:VEVENT
UID:20260424T232749CEST-9913WMiPvj@83.229.19.72
DTSTAMP:20260424T212749Z
DESCRIPTION:
DTSTART;VALUE=DATE:20210403
DTEND;VALUE=DATE:20210419
SUMMARY:Karate_ Vacances de Pâques
END:VEVENT
BEGIN:VEVENT
UID:20260424T232749CEST-9923f3uSuj@83.229.19.72
DTSTAMP:20260424T212749Z
DESCRIPTION:
DTSTART;VALUE=DATE:20210623
DTEND;VALUE=DATE:20210624
SUMMARY:Karate_ FETE NATIONALE
END:VEVENT
BEGIN:VEVENT
UID:20260424T232749CEST-9933Uvuevi@83.229.19.72
DTSTAMP:20260424T212749Z
DESCRIPTION:
DTSTART;VALUE=DATE:20210625
DTEND;VALUE=DATE:20210627
SUMMARY:Karate_ Stage Karate
END:VEVENT
BEGIN:VEVENT
UID:20260424T232749CEST-9945k76NZE@83.229.19.72
DTSTAMP:20260424T212749Z
DESCRIPTION:
DTSTART;VALUE=DATE:20230128
DTEND;VALUE=DATE:20230129
SUMMARY:Karate_ Kids Seminar
END:VEVENT
BEGIN:VEVENT
UID:20260424T232749CEST-99553SVhNn@83.229.19.72
DTSTAMP:20260424T212749Z
DESCRIPTION:
DTSTART;VALUE=DATE:20230129
DTEND;VALUE=DATE:20230130
SUMMARY:Karate_ Kids Club
END:VEVENT
BEGIN:VEVENT
UID:20260424T232749CEST-9965ZU13nR@83.229.19.72
DTSTAMP:20260424T212749Z
DESCRIPTION:
DTSTART;VALUE=DATE:20230210
DTEND;VALUE=DATE:20230211
SUMMARY:Karate_ Stage 17-18 mars 2023
END:VEVENT
BEGIN:VEVENT
UID:20260424T232749CEST-9976MB3plH@83.229.19.72
DTSTAMP:20260424T212749Z
DESCRIPTION:
DTSTART;VALUE=DATE:20230210
DTEND;VALUE=DATE:20230211
SUMMARY:Karate_ 11 mars 2023
END:VEVENT
BEGIN:VEVENT
UID:20260424T232749CEST-9986uxfNju@83.229.19.72
DTSTAMP:20260424T212749Z
DESCRIPTION:
DTSTART;VALUE=DATE:20230210
DTEND;VALUE=DATE:20230211
SUMMARY:Karate_ Rencontre Interclub KUMITE
END:VEVENT
BEGIN:VEVENT
UID:20260424T232749CEST-9996dBXnPS@83.229.19.72
DTSTAMP:20260424T212749Z
DESCRIPTION:
DTSTART;VALUE=DATE:20230210
DTEND;VALUE=DATE:20230211
SUMMARY:Karate_ 7 mai 2023
END:VEVENT
BEGIN:VEVENT
UID:20260424T232749CEST-0007cxuhCr@83.229.19.72
DTSTAMP:20260424T212749Z
DESCRIPTION:
DTSTART;VALUE=DATE:20230210
DTEND;VALUE=DATE:20230220
SUMMARY:Karate_ vacances scolaires
END:VEVENT
BEGIN:VEVENT
UID:20260424T232749CEST-0018Kuimtw@83.229.19.72
DTSTAMP:20260424T212749Z
DESCRIPTION:
DTSTART;VALUE=DATE:20231118
DTEND;VALUE=DATE:20231120
SUMMARY:Karate_ Championnat National Kumite 2023
END:VEVENT
BEGIN:VEVENT
UID:20260424T232749CEST-0028cbNmWk@83.229.19.72
DTSTAMP:20260424T212749Z
DESCRIPTION:
DTSTART;VALUE=DATE:20240701
DTEND;VALUE=DATE:20240920
SUMMARY:Karate_ Vacances d'été
END:VEVENT
BEGIN:VEVENT
UID:20260424T232749CEST-00384XCl9u@83.229.19.72
DTSTAMP:20260424T212749Z
DESCRIPTION:
DTSTART;VALUE=DATE:20240920
DTEND;VALUE=DATE:20240929
SUMMARY:Karate_ Reprise des cours 24-25
END:VEVENT
BEGIN:VEVENT
UID:20260424T232750CEST-0049aAUjA1@83.229.19.72
DTSTAMP:20260424T212749Z
DESCRIPTION:
DTSTART;VALUE=DATE:20241026
DTEND;VALUE=DATE:20241027
SUMMARY:Karate_ Vacances de Toussaint 24
END:VEVENT
BEGIN:VEVENT
UID:20260424T232750CEST-0059IgfwI5@83.229.19.72
DTSTAMP:20260424T212750Z
DESCRIPTION:
DTSTART;VALUE=DATE:20241109
DTEND;VALUE=DATE:20241111
SUMMARY:Karate_ Okami Cup
END:VEVENT
BEGIN:VEVENT
UID:20260424T232750CEST-0070xv8vxH@83.229.19.72
DTSTAMP:20260424T212750Z
DESCRIPTION:
DTSTART;VALUE=DATE:20241201
DTEND;VALUE=DATE:20241202
SUMMARY:Karate_ Championnat national Kumite 2024
END:VEVENT
BEGIN:VEVENT
UID:20260424T232750CEST-0081ZlnHsV@83.229.19.72
DTSTAMP:20260424T212750Z
DESCRIPTION:
DTSTART;VALUE=DATE:20241220
DTEND;VALUE=DATE:20250107
SUMMARY:Karate_ Vacances de Noël 2024
END:VEVENT
BEGIN:VEVENT
UID:20260424T232750CEST-0091coiiaJ@83.229.19.72
DTSTAMP:20260424T212750Z
DESCRIPTION:
DTSTART;VALUE=DATE:20250302
DTEND;VALUE=DATE:20250303
SUMMARY:Karate_ Daiwelschersturneier 2025
END:VEVENT
BEGIN:VEVENT
UID:20260424T232750CEST-0102MDJ3u9@83.229.19.72
DTSTAMP:20260424T212750Z
DESCRIPTION:
DTSTART;VALUE=DATE:20250309
DTEND;VALUE=DATE:20250310
SUMMARY:Karate_ Championnat NATIONNAL KATA 2025
END:VEVENT
BEGIN:VEVENT
UID:20260424T232750CEST-0112OmXKzg@83.229.19.72
DTSTAMP:20260424T212750Z
DESCRIPTION:
DTSTART;VALUE=DATE:20250406
DTEND;VALUE=DATE:20250423
SUMMARY:Karate_ Vacances scolaires de Pâques
END:VEVENT
BEGIN:VEVENT
UID:20260424T232750CEST-0122n202vb@83.229.19.72
DTSTAMP:20260424T212750Z
DESCRIPTION:
DTSTART;VALUE=DATE:20250501
DTEND;VALUE=DATE:20250502
SUMMARY:Karate_ 1 mai 25
END:VEVENT
BEGIN:VEVENT
UID:20260424T232750CEST-0133zFes67@83.229.19.72
DTSTAMP:20260424T212750Z
DESCRIPTION:
DTSTART;VALUE=DATE:20250509
DTEND;VALUE=DATE:20250510
SUMMARY:Karate_ congé du 9 mai 25
END:VEVENT
BEGIN:VEVENT
UID:20260424T232750CEST-0142pluerw@83.229.19.72
DTSTAMP:20260424T212750Z
DESCRIPTION:
DTSTART:20250518T090000
DTEND:20250518T170000
SUMMARY:Karate_ Tournoi amicale KIHON - KATA- KUMITE
END:VEVENT
BEGIN:VEVENT
UID:20260424T232750CEST-0153apOowV@83.229.19.72
DTSTAMP:20260424T212750Z
DESCRIPTION:
DTSTART;VALUE=DATE:20250524
DTEND;VALUE=DATE:20250602
SUMMARY:Karate_ Vacances de Pentecôte
END:VEVENT
BEGIN:VEVENT
UID:20260424T232750CEST-0163EPA71m@83.229.19.72
DTSTAMP:20260424T212750Z
DESCRIPTION:
DTSTART;VALUE=DATE:20250608
DTEND;VALUE=DATE:20250610
SUMMARY:Karate_ Pentecôte
END:VEVENT
BEGIN:VEVENT
UID:20260424T232750CEST-0174oiud94@83.229.19.72
DTSTAMP:20260424T212750Z
DESCRIPTION:
DTSTART;VALUE=DATE:20250612
DTEND;VALUE=DATE:20250613
SUMMARY:Karate_ STAGE OKUMA SHIHAN
END:VEVENT
BEGIN:VEVENT
UID:20260424T232750CEST-0184FuzJ9W@83.229.19.72
DTSTAMP:20260424T212750Z
DESCRIPTION:
DTSTART;VALUE=DATE:20250622
DTEND;VALUE=DATE:20250624
SUMMARY:Karate_ Fête Nationale Luxembourg
END:VEVENT
BEGIN:VEVENT
UID:20260424T232750CEST-01958RGIvc@83.229.19.72
DTSTAMP:20260424T212750Z
DESCRIPTION:
DTSTART;VALUE=DATE:20250628
DTEND;VALUE=DATE:20250629
SUMMARY:Karate_ COUPE PRINCE LOUIS 2025
END:VEVENT
BEGIN:VEVENT
UID:20260424T232750CEST-0205Pbuk7w@83.229.19.72
DTSTAMP:20260424T212750Z
DESCRIPTION:
DTSTART;VALUE=DATE:20251031
DTEND;VALUE=DATE:20251110
SUMMARY:Karate_ Vacances de Toussaint 25
END:VEVENT
BEGIN:VEVENT
UID:20260424T232750CEST-0216X1kOro@83.229.19.72
DTSTAMP:20260424T212750Z
DESCRIPTION:
DTSTART;VALUE=DATE:20251108
DTEND;VALUE=DATE:20251110
SUMMARY:Karate_ OKAMI CUP
END:VEVENT
BEGIN:VEVENT
UID:20260424T232750CEST-0226Uskh4f@83.229.19.72
DTSTAMP:20260424T212750Z
DESCRIPTION:
DTSTART;VALUE=DATE:20260312
DTEND;VALUE=DATE:20260316
SUMMARY:Karate_ NAKA SHIHAN SEMINAR 2026
END:VEVENT
BEGIN:VEVENT
UID:20260424T232750CEST-0236pIURKV@83.229.19.72
DTSTAMP:20260424T212750Z
DESCRIPTION:
DTSTART;VALUE=DATE:20260609
DTEND;VALUE=DATE:20260615
SUMMARY:Karate_ OKUMA SHIHAN GASSHUKU
END:VEVENT
BEGIN:VEVENT
UID:20260424T232750CEST-0247VJ7Nr9@83.229.19.72
DTSTAMP:20260424T212750Z
DESCRIPTION:
DTSTART;VALUE=DATE:20260620
DTEND;VALUE=DATE:20260622
SUMMARY:Karate_ Coupe Prince Louis 2026
END:VEVENT
END:VCALENDAR
